BEGIN:VCALENDAR
VERSION:2.0
PRODID:-//Centre Culturel Voltaire - ECPv6.15.20//NONSGML v1.0//EN
CALSCALE:GREGORIAN
METHOD:PUBLISH
X-WR-CALNAME:Centre Culturel Voltaire
X-ORIGINAL-URL:https://www.centreculturelvoltaire.com
X-WR-CALDESC:Évènements pour Centre Culturel Voltaire
REFRESH-INTERVAL;VALUE=DURATION:PT1H
X-Robots-Tag:noindex
X-PUBLISHED-TTL:PT1H
BEGIN:VTIMEZONE
TZID:Europe/Paris
BEGIN:DAYLIGHT
TZOFFSETFROM:+0100
TZOFFSETTO:+0200
TZNAME:CEST
DTSTART:20240331T010000
END:DAYLIGHT
BEGIN:STANDARD
TZOFFSETFROM:+0200
TZOFFSETTO:+0100
TZNAME:CET
DTSTART:20241027T010000
END:STANDARD
BEGIN:DAYLIGHT
TZOFFSETFROM:+0100
TZOFFSETTO:+0200
TZNAME:CEST
DTSTART:20250330T010000
END:DAYLIGHT
BEGIN:STANDARD
TZOFFSETFROM:+0200
TZOFFSETTO:+0100
TZNAME:CET
DTSTART:20251026T010000
END:STANDARD
BEGIN:DAYLIGHT
TZOFFSETFROM:+0100
TZOFFSETTO:+0200
TZNAME:CEST
DTSTART:20260329T010000
END:DAYLIGHT
BEGIN:STANDARD
TZOFFSETFROM:+0200
TZOFFSETTO:+0100
TZNAME:CET
DTSTART:20261025T010000
END:STANDARD
END:VTIMEZONE
BEGIN:VEVENT
DTSTART;TZID=Europe/Paris:20250404T190000
DTEND;TZID=Europe/Paris:20250404T190000
DTSTAMP:20260420T040228
CREATED:20250106T120918Z
LAST-MODIFIED:20250228T101911Z
UID:428-1743793200-1743793200@www.centreculturelvoltaire.com
SUMMARY:Papiers
DESCRIPTION:C’est l’histoire d’un papier\, mais pas que… C’est l’histoire de plusieurs papiers qui sont en fait le même papier puisque c’est l’histoire de la vie d’un papier qui au total à 7 vies… 2 comédiens jouent avec les objets et le papier sous toutes ses formes\, inventant en direct des univers\, des histoires\, des personnages pour porter un regard plein de tendresse\, de poésie et aussi d’humour\, sur une vie de papier.
URL:https://www.centreculturelvoltaire.com/event/papiers/
CATEGORIES:théâtre d'objet
ATTACH;FMTTYPE=image/jpeg:https://www.centreculturelvoltaire.com/wp-content/uploads/2025/01/Visuel-PAPIERS-scaled.jpg
END:VEVENT
END:VCALENDAR