BEGIN:VCALENDAR
VERSION:2.0
PRODID:-//Centre Culturel Voltaire - ECPv6.15.20//NONSGML v1.0//EN
CALSCALE:GREGORIAN
METHOD:PUBLISH
X-ORIGINAL-URL:https://www.centreculturelvoltaire.com
X-WR-CALDESC:Évènements pour Centre Culturel Voltaire
REFRESH-INTERVAL;VALUE=DURATION:PT1H
X-Robots-Tag:noindex
X-PUBLISHED-TTL:PT1H
BEGIN:VTIMEZONE
TZID:Europe/Paris
BEGIN:DAYLIGHT
TZOFFSETFROM:+0100
TZOFFSETTO:+0200
TZNAME:CEST
DTSTART:20240331T010000
END:DAYLIGHT
BEGIN:STANDARD
TZOFFSETFROM:+0200
TZOFFSETTO:+0100
TZNAME:CET
DTSTART:20241027T010000
END:STANDARD
BEGIN:DAYLIGHT
TZOFFSETFROM:+0100
TZOFFSETTO:+0200
TZNAME:CEST
DTSTART:20250330T010000
END:DAYLIGHT
BEGIN:STANDARD
TZOFFSETFROM:+0200
TZOFFSETTO:+0100
TZNAME:CET
DTSTART:20251026T010000
END:STANDARD
BEGIN:DAYLIGHT
TZOFFSETFROM:+0100
TZOFFSETTO:+0200
TZNAME:CEST
DTSTART:20260329T010000
END:DAYLIGHT
BEGIN:STANDARD
TZOFFSETFROM:+0200
TZOFFSETTO:+0100
TZNAME:CET
DTSTART:20261025T010000
END:STANDARD
END:VTIMEZONE
BEGIN:VEVENT
DTSTART;TZID=Europe/Paris:20251009T200000
DTEND;TZID=Europe/Paris:20251009T200000
DTSTAMP:20260419T185143
CREATED:20250708T082910Z
LAST-MODIFIED:20250808T095948Z
UID:930-1760040000-1760040000@www.centreculturelvoltaire.com
SUMMARY:Pierre Richard
DESCRIPTION:Jean-Marc Dumontet présente Pierre RICHARD « Je suis là mais je ne suis pas là » \n  \nÉternel maladroit\, faux distrait\, tendre pitre\, Pierre Richard nous invite dans son nouveau spectacle à vivre un moment privilégié dans lequel il nous partage à cœur ouvert sa vie passionnée et passionnante. La phrase que j’ai peut-être entendue le plus souvent\, à part « Bonjour\, ça va ? »\, « A la tienne » ou « Pardon\, mais vous me marchez sur le pied »\, est sans doute celle-ci : « Êtes vous aussi distrait dans la vie que dans vos films ? ». Je m’évertue depuis cinquante ans à répondre que « Non\, pas du tout »\, mais il faut croire que je prêche dans le désert puisque la question revient inlassablement. C’est pourquoi je viens de prendre une grande décision : ça suffit. Je n’ai pas peur de l’annoncer\, avec ce spectacle\, je compte prouver de manière irréfutable et définitive que je ne suis pas distrait\, tordre le cou des mauvaises langues – ce qui\, entre parenthèses\, est un tour de force anatomique -\, bref\, mettre enfin un terme à un demi-siècle de malentendu. \n******** \nDe Pierre Richard et Christophe Duthuron \nMise en scène : Christophe Duthuron
URL:https://www.centreculturelvoltaire.com/event/pierre-richard-je-suis-la-mais-je-ne-suis-pas-la/
CATEGORIES:théâtre
ATTACH;FMTTYPE=image/jpeg:https://www.centreculturelvoltaire.com/wp-content/uploads/2025/07/Pierre_Richard_2-03©JMD-PROD-scaled.jpg
END:VEVENT
END:VCALENDAR