BEGIN:VCALENDAR
VERSION:2.0
PRODID:-//Centre Culturel Voltaire - ECPv6.15.20//NONSGML v1.0//EN
CALSCALE:GREGORIAN
METHOD:PUBLISH
X-ORIGINAL-URL:https://www.centreculturelvoltaire.com
X-WR-CALDESC:Évènements pour Centre Culturel Voltaire
REFRESH-INTERVAL;VALUE=DURATION:PT1H
X-Robots-Tag:noindex
X-PUBLISHED-TTL:PT1H
BEGIN:VTIMEZONE
TZID:Europe/Paris
BEGIN:DAYLIGHT
TZOFFSETFROM:+0100
TZOFFSETTO:+0200
TZNAME:CEST
DTSTART:20240331T010000
END:DAYLIGHT
BEGIN:STANDARD
TZOFFSETFROM:+0200
TZOFFSETTO:+0100
TZNAME:CET
DTSTART:20241027T010000
END:STANDARD
BEGIN:DAYLIGHT
TZOFFSETFROM:+0100
TZOFFSETTO:+0200
TZNAME:CEST
DTSTART:20250330T010000
END:DAYLIGHT
BEGIN:STANDARD
TZOFFSETFROM:+0200
TZOFFSETTO:+0100
TZNAME:CET
DTSTART:20251026T010000
END:STANDARD
BEGIN:DAYLIGHT
TZOFFSETFROM:+0100
TZOFFSETTO:+0200
TZNAME:CEST
DTSTART:20260329T010000
END:DAYLIGHT
BEGIN:STANDARD
TZOFFSETFROM:+0200
TZOFFSETTO:+0100
TZNAME:CET
DTSTART:20261025T010000
END:STANDARD
END:VTIMEZONE
BEGIN:VEVENT
DTSTART;TZID=Europe/Paris:20251114T000000
DTEND;TZID=Europe/Paris:20251116T000000
DTSTAMP:20260419T190634
CREATED:20250711T085030Z
LAST-MODIFIED:20250711T085030Z
UID:1083-1763078400-1763251200@www.centreculturelvoltaire.com
SUMMARY:Salon des plasticiens créateurs
DESCRIPTION:Entrée libre
URL:https://www.centreculturelvoltaire.com/event/salon-des-plasticiens-createurs/
CATEGORIES:Exposition,partenaires
END:VEVENT
BEGIN:VEVENT
DTSTART;TZID=Europe/Paris:20251114T150000
DTEND;TZID=Europe/Paris:20251114T150000
DTSTAMP:20260419T190634
CREATED:20250711T085015Z
LAST-MODIFIED:20250728T074917Z
UID:1076-1763132400-1763132400@www.centreculturelvoltaire.com
SUMMARY:La France en chansons
DESCRIPTION:Réservation : 06 08 25 54 03
URL:https://www.centreculturelvoltaire.com/event/la-france-en-chansons/
CATEGORIES:partenaires,Spectacle musical
END:VEVENT
END:VCALENDAR