BEGIN:VCALENDAR
VERSION:2.0
PRODID:-//Centre Culturel Voltaire - ECPv6.15.20//NONSGML v1.0//EN
CALSCALE:GREGORIAN
METHOD:PUBLISH
X-ORIGINAL-URL:https://www.centreculturelvoltaire.com
X-WR-CALDESC:Évènements pour Centre Culturel Voltaire
REFRESH-INTERVAL;VALUE=DURATION:PT1H
X-Robots-Tag:noindex
X-PUBLISHED-TTL:PT1H
BEGIN:VTIMEZONE
TZID:Europe/Paris
BEGIN:DAYLIGHT
TZOFFSETFROM:+0100
TZOFFSETTO:+0200
TZNAME:CEST
DTSTART:20240331T010000
END:DAYLIGHT
BEGIN:STANDARD
TZOFFSETFROM:+0200
TZOFFSETTO:+0100
TZNAME:CET
DTSTART:20241027T010000
END:STANDARD
BEGIN:DAYLIGHT
TZOFFSETFROM:+0100
TZOFFSETTO:+0200
TZNAME:CEST
DTSTART:20250330T010000
END:DAYLIGHT
BEGIN:STANDARD
TZOFFSETFROM:+0200
TZOFFSETTO:+0100
TZNAME:CET
DTSTART:20251026T010000
END:STANDARD
BEGIN:DAYLIGHT
TZOFFSETFROM:+0100
TZOFFSETTO:+0200
TZNAME:CEST
DTSTART:20260329T010000
END:DAYLIGHT
BEGIN:STANDARD
TZOFFSETFROM:+0200
TZOFFSETTO:+0100
TZNAME:CET
DTSTART:20261025T010000
END:STANDARD
END:VTIMEZONE
BEGIN:VEVENT
DTSTART;TZID=Europe/Paris:20250302T110000
DTEND;TZID=Europe/Paris:20250302T110000
DTSTAMP:20260420T040458
CREATED:20250106T114659Z
LAST-MODIFIED:20250228T102136Z
UID:405-1740913200-1740913200@www.centreculturelvoltaire.com
SUMMARY:Fripon & Compagnie
DESCRIPTION:Non\, ce n’est pas une farce ! Il existe quelque part\, dans les nuages\, une grande usine qui se charge d’envoyer les bêtises et les punitions sur Terre ! C’est simple : à chaque bêtise envoyée\, sa punition ! L’entreprise c’est Fripon et Compagnie\, dirigée par Gribouille : toujours une tâche sur la joue et une farce sous le coude\, elle fabrique toutes les bêtises pour les enfants dans un chaos multicolore. Son ennemi juré\, Chérubin : collectionneur d’agrafeuses\, maniaque et un brin peureux\, il fabrique les punitions dans le calme et la discipline. Tout va pour le mieux jusqu’au jour où\, malheur ! Gribouille et Chérubin\, qui s’entendent comme chien et chat\, vont devoir collaborer pour réparer une injustice : un enfant a été puni sans avoir fait de bêtise. Qui est le responsable ? Et comment vont-ils s’y prendre ? C’est le début d’une aventure déjantée\, poétique et humoristique entre Gribouille et Chérubin\, deux clowns que tout t’oppose !
URL:https://www.centreculturelvoltaire.com/event/fripon-compagnie/
CATEGORIES:jeune public
ATTACH;FMTTYPE=image/jpeg:https://www.centreculturelvoltaire.com/wp-content/uploads/2025/01/FRIPON-COMPAGNIE-1-scaled.jpg
END:VEVENT
BEGIN:VEVENT
DTSTART;TZID=Europe/Paris:20250307T200000
DTEND;TZID=Europe/Paris:20250307T200000
DTSTAMP:20260420T040458
CREATED:20250106T115050Z
LAST-MODIFIED:20250228T102048Z
UID:408-1741377600-1741377600@www.centreculturelvoltaire.com
SUMMARY:Alphonse la Nuit
DESCRIPTION:Lancée en 2020\, à l’issue de la rencontre entre l’Occitanie et la Normandie\, la formation Alphonse la Nuit composée de sept musiciens. Tous entretiennent un amour profond de la scène et de la musique. Les compositions originales du groupe\, chantées en français\, empruntent et mêlent différents styles musicaux du funk\, de la pop en passant par le rock et les musiques du monde.
URL:https://www.centreculturelvoltaire.com/event/alphonse-la-nuit/
CATEGORIES:concert
ATTACH;FMTTYPE=image/jpeg:https://www.centreculturelvoltaire.com/wp-content/uploads/2025/01/Alphonse-la-Nuit-1-scaled.jpg
END:VEVENT
BEGIN:VEVENT
DTSTART;TZID=Europe/Paris:20250309T110000
DTEND;TZID=Europe/Paris:20250309T110000
DTSTAMP:20260420T040458
CREATED:20250106T115257Z
LAST-MODIFIED:20250228T102026Z
UID:411-1741518000-1741518000@www.centreculturelvoltaire.com
SUMMARY:Bulle
DESCRIPTION:Conte musical dessiné dès 3 ans. L’histoire originale de ce spectacle se déroule sur une nuit\, le temps d’un rêve. Bulle est intimement liée à son papa par une chanson qu’il lui a appris\, la chanson de la lune\, celle qui guide les marins. Ce soir Papa est en mer et Bulle entend la tempête derrière la fenêtre. Pour Bulle et Plouf\, son doudou c’est le début d’une aventure initiatique…
URL:https://www.centreculturelvoltaire.com/event/bulle/
CATEGORIES:jeune public
ATTACH;FMTTYPE=image/jpeg:https://www.centreculturelvoltaire.com/wp-content/uploads/2025/01/Bulle-scaled.jpg
END:VEVENT
BEGIN:VEVENT
DTSTART;TZID=Europe/Paris:20250314T200000
DTEND;TZID=Europe/Paris:20250314T200000
DTSTAMP:20260420T040458
CREATED:20250106T115520Z
LAST-MODIFIED:20250228T102222Z
UID:416-1741982400-1741982400@www.centreculturelvoltaire.com
SUMMARY:Hip-Hop\, est-ce bien sérieux ?
DESCRIPTION:Pièce engagée et pleine d’humour où la chorégraphe\, Séverine BIDAUD\, raconte avec légèreté et dérision sa rencontre avec le hip-hop. Un spectacle à mi-chemin entre la danse et le théâtre dans une mise en scène dynamique et décalée.
URL:https://www.centreculturelvoltaire.com/event/hip-hop-est-ce-bien-serieux/
CATEGORIES:danse
ATTACH;FMTTYPE=image/jpeg:https://www.centreculturelvoltaire.com/wp-content/uploads/2025/01/HIP-HOP-2-scaled.jpg
END:VEVENT
BEGIN:VEVENT
DTSTART;TZID=Europe/Paris:20250318T200000
DTEND;TZID=Europe/Paris:20250318T200000
DTSTAMP:20260420T040458
CREATED:20250106T115747Z
LAST-MODIFIED:20250228T102005Z
UID:419-1742328000-1742328000@www.centreculturelvoltaire.com
SUMMARY:Shenanigans & le Souffle Celtic
DESCRIPTION:Venez fêter la Saint-Patrick avec Shenanigans et la troupe de danse Havraise « Souffle Celtic » ! Groupe de musique irlandaise formé à Rouen par Justine\, Lucas\, Martial et Simon. Musique et danse se rencontrent pour vous offrir un véritable spectacle vivant sous le signe de l’Irlande. Le répertoire de Shenanigans est fortement imprégné par la culture traditionnelle mais le quartet n’hésite pas à intégrer des éléments musicaux d’autres horizons faisant de leur musique un véritable voyage !
URL:https://www.centreculturelvoltaire.com/event/shenanigans/
CATEGORIES:danse,musique
ATTACH;FMTTYPE=image/jpeg:https://www.centreculturelvoltaire.com/wp-content/uploads/2025/01/SHENANIGANS.jpg
END:VEVENT
BEGIN:VEVENT
DTSTART;TZID=Europe/Paris:20250321T200000
DTEND;TZID=Europe/Paris:20250321T200000
DTSTAMP:20260420T040458
CREATED:20250106T120353Z
LAST-MODIFIED:20250228T101941Z
UID:422-1742587200-1742587200@www.centreculturelvoltaire.com
SUMMARY:La Maison Illuminée & Oswald Sallaberger
DESCRIPTION:La Maison Illuminée est un ensemble d’artistes musicien·nes\, chanteur·euse·s . Elle est placée sous la direction du chef d’orchestre\, Oswald Sallaberger. La Maison Illuminée met en lumière les sonorités intemporelles d’un répertoire musical en résonance avec son territoire\, la Normandie. Elle en actualise ainsi chaque fois son patrimoine\, sa musique\, l’art et la poésie\, lors de rencontres qui se veulent de vrais moments de partage. Chacun·e prend sa part de création dans le moment qui se déroule et investit une émotion liée à l’expression musicale. \n  \nHenry Purcell Music for a while\nWolfgang Amadé Mozart – Divertimento en Fa majeur K. 138. Allegro. Andante. Presto\nFranz Schubert – Quatuor à cordes # 2. 1er mouvement. Presto.\n*****\nBela Bartok – 5 Duos pour 2 violons\nRobert Schumann – Transcription : Benjamin Godard. Scènes d’enfants. Extraits.\nErik Satie – Carnet d’esquisses et de croquis. Extraits. Arrangement d’Oswald Sallaberger\n*****\nJules Massenet – L’âme des oiseaux\nTchaïkovski « Juin » arrangé par Oswald Sallaberger\nClaude Debussy – Les cloches\nMaurice Ravel – Le jardin féerique (extrait de Ma mère l’oie). Arrangement.
URL:https://www.centreculturelvoltaire.com/event/la-maison-illuminee/
CATEGORIES:concert
ATTACH;FMTTYPE=image/jpeg:https://www.centreculturelvoltaire.com/wp-content/uploads/2025/01/La-Maison-Illuminee.jpg
END:VEVENT
BEGIN:VEVENT
DTSTART;TZID=Europe/Paris:20250323T170000
DTEND;TZID=Europe/Paris:20250323T170000
DTSTAMP:20260420T040458
CREATED:20250106T120651Z
LAST-MODIFIED:20250207T160359Z
UID:425-1742749200-1742749200@www.centreculturelvoltaire.com
SUMMARY:Galapiat Cirque
DESCRIPTION:Concert physique racontant l’action du temps sur le corps\, la foi\, et le moral de 2 femmes\, qui\, un jour se sont pris 20 ans dans la face. Il y aura 1 trapèze 1 vélo d’appartement 1 batteur de la sueur et des bouchons d’oreilles à disposition. Avec joie et fureur\, Courbatures célèbre la fin de nos vies flamboyantes d’acrobates et de musiciens en vogue. Chacun-e s’est cassé la gueule de façon toute personnelle. Chaque ego en a pris pour son grade. Dans notre petite cérémonie spectaculaire\, chérissons ce que nous avons pu être\, gardons bien en tête où ça nous a mené\, et pour le temps qui nous reste\, tâchons de mettre le feu.
URL:https://www.centreculturelvoltaire.com/event/courbatures-galapiat-cirque/
CATEGORIES:cirque
ATTACH;FMTTYPE=image/jpeg:https://www.centreculturelvoltaire.com/wp-content/uploads/2025/01/Cirque-Galapiat-Sebastien-Armengol-1-SPRING-scaled.jpg
END:VEVENT
END:VCALENDAR