BEGIN:VCALENDAR
VERSION:2.0
PRODID:-//Centre Culturel Voltaire - ECPv6.15.20//NONSGML v1.0//EN
CALSCALE:GREGORIAN
METHOD:PUBLISH
X-ORIGINAL-URL:https://www.centreculturelvoltaire.com
X-WR-CALDESC:Évènements pour Centre Culturel Voltaire
REFRESH-INTERVAL;VALUE=DURATION:PT1H
X-Robots-Tag:noindex
X-PUBLISHED-TTL:PT1H
BEGIN:VTIMEZONE
TZID:Europe/Paris
BEGIN:DAYLIGHT
TZOFFSETFROM:+0100
TZOFFSETTO:+0200
TZNAME:CEST
DTSTART:20240331T010000
END:DAYLIGHT
BEGIN:STANDARD
TZOFFSETFROM:+0200
TZOFFSETTO:+0100
TZNAME:CET
DTSTART:20241027T010000
END:STANDARD
BEGIN:DAYLIGHT
TZOFFSETFROM:+0100
TZOFFSETTO:+0200
TZNAME:CEST
DTSTART:20250330T010000
END:DAYLIGHT
BEGIN:STANDARD
TZOFFSETFROM:+0200
TZOFFSETTO:+0100
TZNAME:CET
DTSTART:20251026T010000
END:STANDARD
BEGIN:DAYLIGHT
TZOFFSETFROM:+0100
TZOFFSETTO:+0200
TZNAME:CEST
DTSTART:20260329T010000
END:DAYLIGHT
BEGIN:STANDARD
TZOFFSETFROM:+0200
TZOFFSETTO:+0100
TZNAME:CET
DTSTART:20261025T010000
END:STANDARD
END:VTIMEZONE
BEGIN:VEVENT
DTSTART;TZID=Europe/Paris:20251108T200000
DTEND;TZID=Europe/Paris:20251108T200000
DTSTAMP:20260419T154518
CREATED:20250711T084831Z
LAST-MODIFIED:20250728T074829Z
UID:955-1762632000-1762632000@www.centreculturelvoltaire.com
SUMMARY:Isabelle Vajra
DESCRIPTION:Il y a dans ce monde une jeune femme qui s’est donnée pour mission de chanter Barbara et de perpétrer le souvenir de cette grande Dame : Isabelle Vajra. \nD’une voix chaude\, sensuelle et toujours envoûtante\, elle redit\, une à une\, les célèbres chansons qui ont fait Barbara : Göttingen\, Ma plus belle histoire d’amour\, Nantes\, Vienne …. Egalement pianiste de formation classique\, les doigts agiles de cette virtuose dansent allègrement sur son clavier\, tout en suivant fidèlement les arrangements originaux des chansons de celle qui lui sert de modèle. \nLe résultat exceptionnel rend cet hommage bouleversant. \n******** \nIsabelle Vajra : Piano voix \nElena Stojceska : Flûte traversière \nCristina Vata : Violon \nPascale Thiébaux : Violon \nClaudine Christophe : Alto \nHélène Latour : Violoncelle \nRozenn Mabit : Contrebasse \n******** \nEn partenariat avec le festival Chants d’Elles
URL:https://www.centreculturelvoltaire.com/event/isabelle-vajra-barbara-classique/
CATEGORIES:concert
ATTACH;FMTTYPE=image/png:https://www.centreculturelvoltaire.com/wp-content/uploads/2025/07/Photo-1.png
END:VEVENT
BEGIN:VEVENT
DTSTART;TZID=Europe/Paris:20251114T000000
DTEND;TZID=Europe/Paris:20251116T000000
DTSTAMP:20260419T154518
CREATED:20250711T085030Z
LAST-MODIFIED:20250711T085030Z
UID:1083-1763078400-1763251200@www.centreculturelvoltaire.com
SUMMARY:Salon des plasticiens créateurs
DESCRIPTION:Entrée libre
URL:https://www.centreculturelvoltaire.com/event/salon-des-plasticiens-createurs/
CATEGORIES:Exposition,partenaires
END:VEVENT
BEGIN:VEVENT
DTSTART;TZID=Europe/Paris:20251114T150000
DTEND;TZID=Europe/Paris:20251114T150000
DTSTAMP:20260419T154518
CREATED:20250711T085015Z
LAST-MODIFIED:20250728T074917Z
UID:1076-1763132400-1763132400@www.centreculturelvoltaire.com
SUMMARY:La France en chansons
DESCRIPTION:Réservation : 06 08 25 54 03
URL:https://www.centreculturelvoltaire.com/event/la-france-en-chansons/
CATEGORIES:partenaires,Spectacle musical
END:VEVENT
BEGIN:VEVENT
DTSTART;TZID=Europe/Paris:20251116T150000
DTEND;TZID=Europe/Paris:20251116T150000
DTSTAMP:20260419T154518
CREATED:20250711T084847Z
LAST-MODIFIED:20250728T074953Z
UID:962-1763305200-1763305200@www.centreculturelvoltaire.com
SUMMARY:Françoiz Breut + Coup de Chant
DESCRIPTION:Après sa collection diabolique de reprises avec le producteur Don Nino\, Françoiz Breut renoue avec sa poésie sur son huitième album « Vif! » solo dont elle dévoile le titre « Ode aux vers ». Depuis ses débuts\, la chanteuse et illustratrice normande fait valser les mots\, usant de leur musicalité comme de leur sens pour chroniquer notre monde avec une nécessaire distance. Elle ponctue sa poésie sombre de métaphores brûlantes au gré d’atmosphères sonores et d’orchestrations sans cesse renouvelées. Bien loin du bitume déshumanisant et de la frénésie oppressante de nos villes\, c’est dans la forêt que Françoiz Breut a trouvé l’inspiration pour sa nouvelle fable nommée Vif! \n  \n\n\nAvec presque trente ans d’existence\, Coup de Chant n’est pas qu’une chorale\, mais bien un pan entier du patrimoine musical rouennais. De Gainsbourg à Souchon\, de Gotainer à Noir Désir\, ses soixante choristes revisitent\, à leur sauce\, le répertoire de la variété française\, sous les baguettes de Gérard Yon et Guillaume Payen. \n******** \nClôture du Festival Chants d’Elles
URL:https://www.centreculturelvoltaire.com/event/francoiz-breut-coup-de-chant/
CATEGORIES:concert
ATTACH;FMTTYPE=image/png:https://www.centreculturelvoltaire.com/wp-content/uploads/2025/07/Francoiz-Breut_Cover_Single_Crever-l_asphalte_©-Simon-Vanrie_HD_1x1-1.png
END:VEVENT
BEGIN:VEVENT
DTSTART;TZID=Europe/Paris:20251121T200000
DTEND;TZID=Europe/Paris:20251121T200000
DTSTAMP:20260419T154518
CREATED:20250711T084903Z
LAST-MODIFIED:20250807T142845Z
UID:964-1763755200-1763755200@www.centreculturelvoltaire.com
SUMMARY:Sophia Aram
DESCRIPTION:Pour son 5ème spectacle\, Sophia Aram a choisi de s’amuser avec la dinguerie d’une époque réussissant l’exploit de ressusciter les timbrés que l’on croyait oubliés et d’en inventer de nouveaux qui n’ont rien à envier aux premiers.  \nElle dédie donc ce spectacle aux antivax découvrant l’innocuité d’un faux pass-vaccinal face à un vrai virus\, aux petites bourgeoises le cul bien moulé dans leurs leggings venant expier leurs vacances à Courchevel en faisant la promotion d’un islam rigoriste qu’elles n’auront ni à subir ni à combattre\, aux antisémites décomplexés par la grâce d’un candidat réussissant l’exploit d’être juif et pétainiste\, aux gilets jaunes venus vomir leur bière sur la tombe du soldat inconnu\, aux complotistes\, aux populistes et aux décérébrés qui les excusent autant qu’ils les utilisent. Aux poutinolâtres qui après avoir crié tous les samedis à la dictature dans notre pays\, admirant la poigne d’un autocrate sans foi ni loi…   \n******** \n20h40 productions & Kasbah Productions présentent \nTexte : Benoit Cambillard et Sophia Aram \nMusiques : Raphaël Elig \nLumière : Fabienne Flouzat – Julien Barillet \n******** \nMolière de l’humour 2024
URL:https://www.centreculturelvoltaire.com/event/sophia-aram-le-monde-dapres/
CATEGORIES:humour
ATTACH;FMTTYPE=image/jpeg:https://www.centreculturelvoltaire.com/wp-content/uploads/2025/07/sophia-aram-HD-kodak-mention-molie╠Cre-2024-scaled.jpg
END:VEVENT
BEGIN:VEVENT
DTSTART;TZID=Europe/Paris:20251123T110000
DTEND;TZID=Europe/Paris:20251123T110000
DTSTAMP:20260419T154518
CREATED:20250711T084915Z
LAST-MODIFIED:20250808T102836Z
UID:977-1763895600-1763895600@www.centreculturelvoltaire.com
SUMMARY:Marc Lacourt / MA Compagnie
DESCRIPTION:C’est une bonne question que nous posent là en préambule le chorégraphe et danseur Marc Lacourt et l’autrice et dessinatrice Delphine Perret. Danse et dessin s’amusent ici main dans la main à démantibuler les mots et à poétiser tout ce qui nous entoure. \n\n\nEst-ce que l’on pourrait s’amuser à tout renommer et envisager autrement si on le décidait ? Pourquoi un arbre est une poule ? est un spectacle conçu comme une session de bricolage. Comment peut-on refabriquer\, ré-imaginer les choses à l’aide de quelques objets\, de mots\, de feutres et de crayons ? La danse joue à chercher son chemin\, les mots glissent d’une signification à l’autre. Objets et dessins sont eux aussi mis en mouvement pour faire valser le sens et l’ordre établi de façon joyeusement décalée. Le mystère de la création devient ici une piste de jeu partagée\, dans un univers où une poule peut effectivement tout à fait devenir un arbre ! \n******** \nChorégraphe : Marc Lacourt\nCréé en collaboration avec Delphine Perret et Pauline Valentin\nInterprètes : Marc Lacourt et Pauline Valentin (en alternance avec une seconde distribution)\nRégie :  Abigaël Dutertre ou Jennifer Benard \n******** \nEn partenariat avec Chorège CDCN Falaise Normandie dans le cadre du temps fort Flash et de Danses en Territoire. Avec le soutien de l’OARA. Ce projet bénéficie de l’ingénierie de l’Odia Normandie dans le cadre d’InTERaction.
URL:https://www.centreculturelvoltaire.com/event/pourquoi-un-arbre-est-une-poule-marc-lacourt-ma-compagnie/
CATEGORIES:danse,jeune public
ATTACH;FMTTYPE=image/jpeg:https://www.centreculturelvoltaire.com/wp-content/uploads/2025/07/┬®_Pierre_Planchenault-18-scaled.jpg
END:VEVENT
END:VCALENDAR